BEGIN:VCALENDAR
VERSION:2.0
PRODID:-//Tangueando - ECPv6.5.0//NONSGML v1.0//EN
CALSCALE:GREGORIAN
METHOD:PUBLISH
X-ORIGINAL-URL:https://tangueando.fr
X-WR-CALDESC:évènements pour Tangueando
REFRESH-INTERVAL;VALUE=DURATION:PT1H
X-Robots-Tag:noindex
X-PUBLISHED-TTL:PT1H
BEGIN:VTIMEZONE
TZID:Europe/Paris
BEGIN:DAYLIGHT
TZOFFSETFROM:+0100
TZOFFSETTO:+0200
TZNAME:CEST
DTSTART:20260329T010000
END:DAYLIGHT
BEGIN:STANDARD
TZOFFSETFROM:+0200
TZOFFSETTO:+0100
TZNAME:CET
DTSTART:20261025T010000
END:STANDARD
END:VTIMEZONE
BEGIN:VEVENT
DTSTART;TZID=Europe/Paris:20260202T200000
DTEND;TZID=Europe/Paris:20260202T223000
DTSTAMP:20260425T153912
CREATED:20260122T143811Z
LAST-MODIFIED:20260127T175908Z
UID:29690-1770062400-1770071400@tangueando.fr
SUMMARY:Pratique du lundi DJ Jean-Philippe
DESCRIPTION:En l’absence de José\, la pratique du lundi est maintenue. C’est Jean-Philippe Antomarchi qui musicalisera la soirée. \n\n\n\nPAF 3 euros\, gratuit avec un abonnement cours
URL:https://tangueando.fr/evenement/pratique-du-lundi-dj-jose-15/
CATEGORIES:Practica
END:VEVENT
END:VCALENDAR